BEGIN:VCALENDAR
VERSION:2.0
PRODID:-//House Of Praise - ECPv6.15.20//NONSGML v1.0//EN
CALSCALE:GREGORIAN
METHOD:PUBLISH
X-WR-CALNAME:House Of Praise
X-ORIGINAL-URL:https://www.cachouseofpraise.org
X-WR-CALDESC:Events for House Of Praise
REFRESH-INTERVAL;VALUE=DURATION:PT1H
X-Robots-Tag:noindex
X-PUBLISHED-TTL:PT1H
BEGIN:VTIMEZONE
TZID:America/New_York
BEGIN:DAYLIGHT
TZOFFSETFROM:-0500
TZOFFSETTO:-0400
TZNAME:EDT
DTSTART:20200308T070000
END:DAYLIGHT
BEGIN:STANDARD
TZOFFSETFROM:-0400
TZOFFSETTO:-0500
TZNAME:EST
DTSTART:20201101T060000
END:STANDARD
BEGIN:DAYLIGHT
TZOFFSETFROM:-0500
TZOFFSETTO:-0400
TZNAME:EDT
DTSTART:20210314T070000
END:DAYLIGHT
BEGIN:STANDARD
TZOFFSETFROM:-0400
TZOFFSETTO:-0500
TZNAME:EST
DTSTART:20211107T060000
END:STANDARD
BEGIN:DAYLIGHT
TZOFFSETFROM:-0500
TZOFFSETTO:-0400
TZNAME:EDT
DTSTART:20220313T070000
END:DAYLIGHT
BEGIN:STANDARD
TZOFFSETFROM:-0400
TZOFFSETTO:-0500
TZNAME:EST
DTSTART:20221106T060000
END:STANDARD
BEGIN:DAYLIGHT
TZOFFSETFROM:-0500
TZOFFSETTO:-0400
TZNAME:EDT
DTSTART:20230312T070000
END:DAYLIGHT
BEGIN:STANDARD
TZOFFSETFROM:-0400
TZOFFSETTO:-0500
TZNAME:EST
DTSTART:20231105T060000
END:STANDARD
BEGIN:DAYLIGHT
TZOFFSETFROM:-0500
TZOFFSETTO:-0400
TZNAME:EDT
DTSTART:20240310T070000
END:DAYLIGHT
BEGIN:STANDARD
TZOFFSETFROM:-0400
TZOFFSETTO:-0500
TZNAME:EST
DTSTART:20241103T060000
END:STANDARD
BEGIN:DAYLIGHT
TZOFFSETFROM:-0500
TZOFFSETTO:-0400
TZNAME:EDT
DTSTART:20250309T070000
END:DAYLIGHT
BEGIN:STANDARD
TZOFFSETFROM:-0400
TZOFFSETTO:-0500
TZNAME:EST
DTSTART:20251102T060000
END:STANDARD
BEGIN:DAYLIGHT
TZOFFSETFROM:-0500
TZOFFSETTO:-0400
TZNAME:EDT
DTSTART:20260308T070000
END:DAYLIGHT
BEGIN:STANDARD
TZOFFSETFROM:-0400
TZOFFSETTO:-0500
TZNAME:EST
DTSTART:20261101T060000
END:STANDARD
END:VTIMEZONE
BEGIN:VEVENT
DTSTART;TZID=America/New_York:20250425T190000
DTEND;TZID=America/New_York:20250427T130000
DTSTAMP:20260423T162404
CREATED:20161109T042054Z
LAST-MODIFIED:20250425T021829Z
UID:6653-1745607600-1745758800@www.cachouseofpraise.org
SUMMARY:Children's Anniversary
DESCRIPTION:CAC HOP –  Event
URL:https://www.cachouseofpraise.org/event/election-night-event/
LOCATION:4909 Edmonston Hyattsville\, MD 20781\, 4909 Edmonston Road\, Hyattsville\, MD\, 20781\, United States
CATEGORIES:Church Service,Educational,Presentations
ATTACH;FMTTYPE=image/jpeg:https://www.cachouseofpraise.org/wp-content/uploads/2016/11/IMG-20250424-WA0023.jpg
END:VEVENT
BEGIN:VEVENT
DTSTART;TZID=America/New_York:20210627T100000
DTEND;TZID=America/New_York:20210627T123000
DTSTAMP:20260423T162404
CREATED:20200625T160707Z
LAST-MODIFIED:20210625T165414Z
UID:6873-1624788000-1624797000@www.cachouseofpraise.org
SUMMARY:Sunday Service RSVP
DESCRIPTION: .  \n 
URL:https://www.cachouseofpraise.org/event/sunday-service-1/
LOCATION:4909 Edmonston Hyattsville\, MD 20781\, 4909 Edmonston Road\, Hyattsville\, MD\, 20781\, United States
CATEGORIES:Church Service
END:VEVENT
END:VCALENDAR